BEGIN:VCALENDAR
VERSION:2.0
PRODID:-//Kingsclear Community School - ECPv6.15.20//NONSGML v1.0//EN
CALSCALE:GREGORIAN
METHOD:PUBLISH
X-WR-CALNAME:Kingsclear Community School
X-ORIGINAL-URL:https://kingsclear.nbed.ca
X-WR-CALDESC:Events for Kingsclear Community School
REFRESH-INTERVAL;VALUE=DURATION:PT1H
X-Robots-Tag:noindex
X-PUBLISHED-TTL:PT1H
BEGIN:VTIMEZONE
TZID:America/Moncton
BEGIN:DAYLIGHT
TZOFFSETFROM:-0400
TZOFFSETTO:-0300
TZNAME:ADT
DTSTART:20220313T060000
END:DAYLIGHT
BEGIN:STANDARD
TZOFFSETFROM:-0300
TZOFFSETTO:-0400
TZNAME:AST
DTSTART:20221106T050000
END:STANDARD
BEGIN:DAYLIGHT
TZOFFSETFROM:-0400
TZOFFSETTO:-0300
TZNAME:ADT
DTSTART:20230312T060000
END:DAYLIGHT
BEGIN:STANDARD
TZOFFSETFROM:-0300
TZOFFSETTO:-0400
TZNAME:AST
DTSTART:20231105T050000
END:STANDARD
BEGIN:DAYLIGHT
TZOFFSETFROM:-0400
TZOFFSETTO:-0300
TZNAME:ADT
DTSTART:20240310T060000
END:DAYLIGHT
BEGIN:STANDARD
TZOFFSETFROM:-0300
TZOFFSETTO:-0400
TZNAME:AST
DTSTART:20241103T050000
END:STANDARD
BEGIN:DAYLIGHT
TZOFFSETFROM:-0400
TZOFFSETTO:-0300
TZNAME:ADT
DTSTART:20250309T060000
END:DAYLIGHT
BEGIN:STANDARD
TZOFFSETFROM:-0300
TZOFFSETTO:-0400
TZNAME:AST
DTSTART:20251102T050000
END:STANDARD
END:VTIMEZONE
BEGIN:VEVENT
DTSTART;TZID=America/Moncton:20240108T081500
DTEND;TZID=America/Moncton:20240108T163000
DTSTAMP:20260419T135758
CREATED:20230616T122053Z
LAST-MODIFIED:20230620T120125Z
UID:10000079-1704701700-1704731400@kingsclear.nbed.ca
SUMMARY:First Day of Classes
DESCRIPTION:
URL:https://kingsclear.nbed.ca/calendar/first-day-of-classes-3/
CATEGORIES:Current Students
END:VEVENT
BEGIN:VEVENT
DTSTART;TZID=America/Moncton:20231222T081500
DTEND;TZID=America/Moncton:20231222T120000
DTSTAMP:20260419T135758
CREATED:20230616T122006Z
LAST-MODIFIED:20230620T120117Z
UID:10000078-1703232900-1703246400@kingsclear.nbed.ca
SUMMARY:Last Day of Classes (Half Day)
DESCRIPTION:
URL:https://kingsclear.nbed.ca/calendar/last-day-of-classes-half-day-2/
CATEGORIES:Current Students
END:VEVENT
BEGIN:VEVENT
DTSTART;TZID=America/Moncton:20231222T080000
DTEND;TZID=America/Moncton:20231222T120000
DTSTAMP:20260419T135758
CREATED:20230925T140738Z
LAST-MODIFIED:20230925T140739Z
UID:10000103-1703232000-1703246400@kingsclear.nbed.ca
SUMMARY:Pajama Day and Pancake Breakfast!
DESCRIPTION:
URL:https://kingsclear.nbed.ca/calendar/pajama-day-and-pancake-breakfast/
END:VEVENT
BEGIN:VEVENT
DTSTART;TZID=America/Moncton:20231213T000000
DTEND;TZID=America/Moncton:20231213T235959
DTSTAMP:20260419T135758
CREATED:20231208T131501Z
LAST-MODIFIED:20231208T132803Z
UID:10000104-1702425600-1702511999@kingsclear.nbed.ca
SUMMARY:Holiday Music Concert
DESCRIPTION:Our Holiday music concert takes place on Wednesday\, December 13th.  Storm date is December 20th.  Like last year\, we will host 2 gatherings: \n\n\n\n\nGrades K-2 and families from 10:15 – 11:00.\n\n\n\nGrade 3-5 and families will be from 11:15 – 12:00.\n\n\n\n\nAt both events we will be doing a fund raiser for the P4K\, raffling off goodie baskets and selling tree ornaments. Raffle tickets can be pre-purchased with SchoolCash online or purchased at the concert.
URL:https://kingsclear.nbed.ca/calendar/holiday-music-concert/
END:VEVENT
BEGIN:VEVENT
DTSTART;TZID=America/Moncton:20231208T130000
DTEND;TZID=America/Moncton:20231208T143000
DTSTAMP:20260419T135758
CREATED:20230925T140307Z
LAST-MODIFIED:20230925T140415Z
UID:10000102-1702040400-1702045800@kingsclear.nbed.ca
SUMMARY:Student/Parent Conferences with Teacher
DESCRIPTION:
URL:https://kingsclear.nbed.ca/calendar/student-parent-conferences-with-teacher-3/
END:VEVENT
BEGIN:VEVENT
DTSTART;TZID=America/Moncton:20231208T110000
DTEND;TZID=America/Moncton:20231208T120000
DTSTAMP:20260419T135758
CREATED:20230925T140241Z
LAST-MODIFIED:20230925T140459Z
UID:10000101-1702033200-1702036800@kingsclear.nbed.ca
SUMMARY:Student/Parent Conferences with Teacher
DESCRIPTION:
URL:https://kingsclear.nbed.ca/calendar/student-parent-conferences-with-teacher-2/
END:VEVENT
BEGIN:VEVENT
DTSTART;TZID=America/Moncton:20231207T160000
DTEND;TZID=America/Moncton:20231207T183000
DTSTAMP:20260419T135759
CREATED:20230925T140150Z
LAST-MODIFIED:20230925T140522Z
UID:10000100-1701964800-1701973800@kingsclear.nbed.ca
SUMMARY:Student/Parent Conferences with Teacher
DESCRIPTION:
URL:https://kingsclear.nbed.ca/calendar/student-parent-conferences-with-teacher/
END:VEVENT
BEGIN:VEVENT
DTSTART;TZID=America/Moncton:20231113T000000
DTEND;TZID=America/Moncton:20231113T235900
DTSTAMP:20260419T135759
CREATED:20230616T121829Z
LAST-MODIFIED:20230620T120109Z
UID:10000077-1699833600-1699919940@kingsclear.nbed.ca
SUMMARY:Remembrance Day (Observed)
DESCRIPTION:Schools closed.
URL:https://kingsclear.nbed.ca/calendar/remembrance-day-observed/
CATEGORIES:Current Students
END:VEVENT
BEGIN:VEVENT
DTSTART;TZID=America/Moncton:20231013T080000
DTEND;TZID=America/Moncton:20231013T150000
DTSTAMP:20260419T135759
CREATED:20230925T135901Z
LAST-MODIFIED:20230925T135902Z
UID:10000099-1697184000-1697209200@kingsclear.nbed.ca
SUMMARY:Kindergarten Registration for September 2024
DESCRIPTION:
URL:https://kingsclear.nbed.ca/calendar/kindergarten-registration-for-september-2024-4/
END:VEVENT
BEGIN:VEVENT
DTSTART;TZID=America/Moncton:20231012T080000
DTEND;TZID=America/Moncton:20231012T150000
DTSTAMP:20260419T135759
CREATED:20230925T135843Z
LAST-MODIFIED:20230925T135844Z
UID:10000098-1697097600-1697122800@kingsclear.nbed.ca
SUMMARY:Kindergarten Registration for September 2024
DESCRIPTION:
URL:https://kingsclear.nbed.ca/calendar/kindergarten-registration-for-september-2024-3/
END:VEVENT
BEGIN:VEVENT
DTSTART;TZID=America/Moncton:20231011T080000
DTEND;TZID=America/Moncton:20231011T150000
DTSTAMP:20260419T135759
CREATED:20230925T135826Z
LAST-MODIFIED:20230925T135827Z
UID:10000097-1697011200-1697036400@kingsclear.nbed.ca
SUMMARY:Kindergarten Registration for September 2024
DESCRIPTION:
URL:https://kingsclear.nbed.ca/calendar/kindergarten-registration-for-september-2024-2/
END:VEVENT
BEGIN:VEVENT
DTSTART;TZID=America/Moncton:20231010T080000
DTEND;TZID=America/Moncton:20231010T150000
DTSTAMP:20260419T135759
CREATED:20230925T135809Z
LAST-MODIFIED:20230925T135810Z
UID:10000096-1696924800-1696950000@kingsclear.nbed.ca
SUMMARY:Kindergarten Registration for September 2024
DESCRIPTION:
URL:https://kingsclear.nbed.ca/calendar/kindergarten-registration-for-september-2024/
END:VEVENT
BEGIN:VEVENT
DTSTART;TZID=America/Moncton:20231009T000000
DTEND;TZID=America/Moncton:20231009T235900
DTSTAMP:20260419T135759
CREATED:20230616T121706Z
LAST-MODIFIED:20230620T120100Z
UID:10000076-1696809600-1696895940@kingsclear.nbed.ca
SUMMARY:Thanksgiving Day
DESCRIPTION:Schools closed.
URL:https://kingsclear.nbed.ca/calendar/thanksgiving-day-2/
CATEGORIES:Current Students
END:VEVENT
BEGIN:VEVENT
DTSTART;TZID=America/Moncton:20231002T000000
DTEND;TZID=America/Moncton:20231002T235900
DTSTAMP:20260419T135759
CREATED:20230616T121613Z
LAST-MODIFIED:20230620T120017Z
UID:10000075-1696204800-1696291140@kingsclear.nbed.ca
SUMMARY:National Day for Truth and Reconciliation
DESCRIPTION:Schools closed.
URL:https://kingsclear.nbed.ca/calendar/national-day-for-truth-and-reconciliation/
CATEGORIES:Current Students
END:VEVENT
BEGIN:VEVENT
DTSTART;TZID=America/Moncton:20230929T080000
DTEND;TZID=America/Moncton:20230929T170000
DTSTAMP:20260419T135759
CREATED:20230925T135457Z
LAST-MODIFIED:20230925T135458Z
UID:10000095-1695974400-1696006800@kingsclear.nbed.ca
SUMMARY:Orange Shirt Day
DESCRIPTION:
URL:https://kingsclear.nbed.ca/calendar/orange-shirt-day/
END:VEVENT
BEGIN:VEVENT
DTSTART;TZID=America/Moncton:20230925T084500
DTEND;TZID=America/Moncton:20230925T094500
DTSTAMP:20260419T135759
CREATED:20230925T135403Z
LAST-MODIFIED:20230925T135404Z
UID:10000094-1695631500-1695635100@kingsclear.nbed.ca
SUMMARY:Terry Fox Walk
DESCRIPTION:
URL:https://kingsclear.nbed.ca/calendar/terry-fox-walk/
END:VEVENT
BEGIN:VEVENT
DTSTART;TZID=America/Moncton:20230922T193000
DTEND;TZID=America/Moncton:20230922T213000
DTSTAMP:20260419T135759
CREATED:20230918T232626Z
LAST-MODIFIED:20230921T165716Z
UID:10000093-1695411000-1695418200@kingsclear.nbed.ca
SUMMARY:Friday Outdoor Movie Night - Sep 22
DESCRIPTION:Featured Movie:  Elemental \n\n\n\nWe are excited for Friday’s Outdoor Movie Night!  We are asking for students to be dropped off at 7:30 and picked up at 9:30pm. We will be starting the movie at 7:45. Pizza will be delivered around at 8:00 along with a juice box.  We will be serving popcorn after that. \n\n\n\nEven though there is no school on September 22 for students\, we will be hosting the movie night with a rain date of Saturday\, September 23; however\, the weather is looking great for it! The ground might still be wet from the downfall of rain on the weekend.  Please bring camping chairs or picnic blankets if you have them for the students to sit on.  We will have picnic tables and a few chairs they can use if you do not have camp chairs to bring. \n\n\n\nIt can also get cool when the sun sets\, so please dress in layers and maybe bring a blanket. \n\n\n\nIf you are still interested in having your child attend\, please send me an email by Wednesday at Marcie.connors@nbed.nb.ca and we will make arrangements for payment.  We need to send in our pizza order by Wednesday\, which is why we need to know how much to order by Wednesday morning.
URL:https://kingsclear.nbed.ca/calendar/friday-outdoor-movie-night/
CATEGORIES:Current Students
END:VEVENT
BEGIN:VEVENT
DTSTART;TZID=America/Moncton:20230905T081500
DTEND;TZID=America/Moncton:20230905T163000
DTSTAMP:20260419T135759
CREATED:20230616T121516Z
LAST-MODIFIED:20230620T120010Z
UID:10000074-1693901700-1693931400@kingsclear.nbed.ca
SUMMARY:First Day of Classes
DESCRIPTION:
URL:https://kingsclear.nbed.ca/calendar/first-day-of-classes/
CATEGORIES:Current Students
END:VEVENT
BEGIN:VEVENT
DTSTART;TZID=America/Moncton:20230904T000000
DTEND;TZID=America/Moncton:20230904T235900
DTSTAMP:20260419T135759
CREATED:20230616T121427Z
LAST-MODIFIED:20230620T120003Z
UID:10000073-1693785600-1693871940@kingsclear.nbed.ca
SUMMARY:Labour Day
DESCRIPTION:
URL:https://kingsclear.nbed.ca/calendar/labour-day-2/
CATEGORIES:Current Students
END:VEVENT
BEGIN:VEVENT
DTSTART;TZID=America/Moncton:20230901T081500
DTEND;TZID=America/Moncton:20230901T163000
DTSTAMP:20260419T135759
CREATED:20230616T123657Z
LAST-MODIFIED:20230620T115955Z
UID:10000091-1693556100-1693585800@kingsclear.nbed.ca
SUMMARY:Full Administration Day
DESCRIPTION:Teachers and administrators ONLY.
URL:https://kingsclear.nbed.ca/calendar/full-administration-day-6/
CATEGORIES:Current Students
END:VEVENT
BEGIN:VEVENT
DTSTART;TZID=America/Moncton:20230831T081500
DTEND;TZID=America/Moncton:20230831T163000
DTSTAMP:20260419T135759
CREATED:20230616T121254Z
LAST-MODIFIED:20230620T115947Z
UID:10000072-1693469700-1693499400@kingsclear.nbed.ca
SUMMARY:Full Administration Day
DESCRIPTION:Teachers and administrators ONLY.
URL:https://kingsclear.nbed.ca/calendar/full-administration-day-3/
CATEGORIES:Current Students
END:VEVENT
BEGIN:VEVENT
DTSTART;TZID=America/Moncton:20230830T081500
DTEND;TZID=America/Moncton:20230830T163000
DTSTAMP:20260419T135759
CREATED:20230616T123537Z
LAST-MODIFIED:20230620T115902Z
UID:10000090-1693383300-1693413000@kingsclear.nbed.ca
SUMMARY:Council Day
DESCRIPTION:Teachers and administrators ONLY.
URL:https://kingsclear.nbed.ca/calendar/council-day-3/
CATEGORIES:Current Students
END:VEVENT
BEGIN:VEVENT
DTSTART;TZID=America/Moncton:20230829T081500
DTEND;TZID=America/Moncton:20230829T163000
DTSTAMP:20260419T135759
CREATED:20230616T121109Z
LAST-MODIFIED:20230626T184358Z
UID:10000071-1693296900-1693326600@kingsclear.nbed.ca
SUMMARY:NBTA Council Day (School/District Based)
DESCRIPTION:Teachers and administrators ONLY.
URL:https://kingsclear.nbed.ca/calendar/council-day/
CATEGORIES:Current Students
END:VEVENT
BEGIN:VEVENT
DTSTART;TZID=America/Moncton:20230828T081500
DTEND;TZID=America/Moncton:20230828T163000
DTSTAMP:20260419T135759
CREATED:20230616T120828Z
LAST-MODIFIED:20230620T115547Z
UID:10000070-1693210500-1693240200@kingsclear.nbed.ca
SUMMARY:Full Administration Day
DESCRIPTION:Teachers and administrators ONLY.
URL:https://kingsclear.nbed.ca/calendar/full-administration-day-2/
CATEGORIES:Current Students
END:VEVENT
BEGIN:VEVENT
DTSTART;TZID=America/Moncton:20230623T080000
DTEND;TZID=America/Moncton:20230623T170000
DTSTAMP:20260419T135759
CREATED:20230224T143045Z
LAST-MODIFIED:20230224T143048Z
UID:10000069-1687507200-1687539600@kingsclear.nbed.ca
SUMMARY:Last Day of School for Students
DESCRIPTION:Term 3 Report Cards will be send home today.
URL:https://kingsclear.nbed.ca/calendar/last-day-of-school-for-students/
END:VEVENT
BEGIN:VEVENT
DTSTART;TZID=America/Moncton:20230623T000000
DTEND;TZID=America/Moncton:20230623T235959
DTSTAMP:20260419T135759
CREATED:20220502T161804Z
LAST-MODIFIED:20220921T123110Z
UID:10000053-1687478400-1687564799@kingsclear.nbed.ca
SUMMARY:Last Day of Classes
DESCRIPTION:
URL:https://kingsclear.nbed.ca/calendar/last-day-of-classes/
END:VEVENT
BEGIN:VEVENT
DTSTART;TZID=America/Moncton:20230522T080000
DTEND;TZID=America/Moncton:20230522T170000
DTSTAMP:20260419T135759
CREATED:20230224T142948Z
LAST-MODIFIED:20230224T142950Z
UID:10000068-1684742400-1684774800@kingsclear.nbed.ca
SUMMARY:No School for Students
DESCRIPTION:Victoria Day
URL:https://kingsclear.nbed.ca/calendar/no-school-for-students-4/
END:VEVENT
BEGIN:VEVENT
DTSTART;TZID=America/Moncton:20230522T000000
DTEND;TZID=America/Moncton:20230522T235959
DTSTAMP:20260419T135759
CREATED:20220502T161734Z
LAST-MODIFIED:20220921T124756Z
UID:10000052-1684713600-1684799999@kingsclear.nbed.ca
SUMMARY:Victoria Day
DESCRIPTION:
URL:https://kingsclear.nbed.ca/calendar/victoria-day/
END:VEVENT
BEGIN:VEVENT
DTSTART;TZID=America/Moncton:20230515T080000
DTEND;TZID=America/Moncton:20230515T170000
DTSTAMP:20260419T135759
CREATED:20230224T142904Z
LAST-MODIFIED:20230224T142906Z
UID:10000067-1684137600-1684170000@kingsclear.nbed.ca
SUMMARY:No School for Students
DESCRIPTION:Teachers will be attending the annual NBTA Branch meeting.
URL:https://kingsclear.nbed.ca/calendar/no-school-for-students-3/
END:VEVENT
BEGIN:VEVENT
DTSTART;TZID=America/Moncton:20230505T080000
DTEND;TZID=America/Moncton:20230505T170000
DTSTAMP:20260419T135759
CREATED:20230224T142800Z
LAST-MODIFIED:20230224T142802Z
UID:10000066-1683273600-1683306000@kingsclear.nbed.ca
SUMMARY:No School for Students
DESCRIPTION:Teachers will be attending NBTA Council Days
URL:https://kingsclear.nbed.ca/calendar/no-school-for-students-2/
END:VEVENT
END:VCALENDAR